BEGIN:VCALENDAR
VERSION:2.0
PRODID:-//Volto Santo - ECPv5.9.1//NONSGML v1.0//EN
CALSCALE:GREGORIAN
METHOD:PUBLISH
X-WR-CALNAME:Volto Santo
X-ORIGINAL-URL:https://www.voltosanto.it
X-WR-CALDESC:Eventi per Volto Santo
BEGIN:VTIMEZONE
TZID:UTC
BEGIN:STANDARD
TZOFFSETFROM:+0000
TZOFFSETTO:+0000
TZNAME:UTC
DTSTART:20230101T000000
END:STANDARD
END:VTIMEZONE
BEGIN:VEVENT
DTSTART;TZID=UTC:20230802T080000
DTEND;TZID=UTC:20230804T223000
DTSTAMP:20260420T151954
CREATED:20230803T091903Z
LAST-MODIFIED:20230803T092104Z
UID:1355-1690963200-1691188200@www.voltosanto.it
SUMMARY:Solennità del Volto Santo-presiede p.Orazio Renzetti
DESCRIPTION:
URL:https://www.voltosanto.it/event/solennita-del-volto-santo/
ATTACH;FMTTYPE=image/jpeg:https://www.voltosanto.it/wp-content/uploads/2023/08/solennita2.jpg
END:VEVENT
END:VCALENDAR