BEGIN:VCALENDAR
VERSION:2.0
PRODID:-//Volto Santo - ECPv5.9.1//NONSGML v1.0//EN
CALSCALE:GREGORIAN
METHOD:PUBLISH
X-WR-CALNAME:Volto Santo
X-ORIGINAL-URL:https://www.voltosanto.it
X-WR-CALDESC:Eventi per Volto Santo
BEGIN:VTIMEZONE
TZID:UTC
BEGIN:STANDARD
TZOFFSETFROM:+0000
TZOFFSETTO:+0000
TZNAME:UTC
DTSTART:20230101T000000
END:STANDARD
END:VTIMEZONE
BEGIN:VEVENT
DTSTART;TZID=UTC:20230327T060000
DTEND;TZID=UTC:20230410T190000
DTSTAMP:20260420T224027
CREATED:20230327T041431Z
LAST-MODIFIED:20230327T045501Z
UID:1323-1679896800-1681153200@www.voltosanto.it
SUMMARY:Settimana Santa 2023
DESCRIPTION:Riti della settimana Santa 2023
URL:https://www.voltosanto.it/event/settimana-santa-2023/
ATTACH;FMTTYPE=image/jpeg:https://www.voltosanto.it/wp-content/uploads/2023/03/riti-sett-e1679892870111.jpg
END:VEVENT
END:VCALENDAR