BEGIN:VCALENDAR
VERSION:2.0
PRODID:-//Volto Santo - ECPv5.9.1//NONSGML v1.0//EN
CALSCALE:GREGORIAN
METHOD:PUBLISH
X-WR-CALNAME:Volto Santo
X-ORIGINAL-URL:https://www.voltosanto.it
X-WR-CALDESC:Eventi per Volto Santo
BEGIN:VTIMEZONE
TZID:UTC
BEGIN:STANDARD
TZOFFSETFROM:+0000
TZOFFSETTO:+0000
TZNAME:UTC
DTSTART:20240101T000000
END:STANDARD
END:VTIMEZONE
BEGIN:VEVENT
DTSTART;TZID=UTC:20240324T060000
DTEND;TZID=UTC:20240401T230000
DTSTAMP:20260420T105737
CREATED:20240318T164053Z
LAST-MODIFIED:20240318T164053Z
UID:1404-1711260000-1712012400@www.voltosanto.it
SUMMARY:Programma settimana Santa
DESCRIPTION:
URL:https://www.voltosanto.it/event/programma-settimana-santa/
END:VEVENT
END:VCALENDAR