BEGIN:VCALENDAR
VERSION:2.0
PRODID:-//Volto Santo - ECPv5.9.1//NONSGML v1.0//EN
CALSCALE:GREGORIAN
METHOD:PUBLISH
X-WR-CALNAME:Volto Santo
X-ORIGINAL-URL:https://www.voltosanto.it
X-WR-CALDESC:Eventi per Volto Santo
BEGIN:VTIMEZONE
TZID:UTC
BEGIN:STANDARD
TZOFFSETFROM:+0000
TZOFFSETTO:+0000
TZNAME:UTC
DTSTART:20240101T000000
END:STANDARD
END:VTIMEZONE
BEGIN:VEVENT
DTSTART;TZID=UTC:20240214T080000
DTEND;TZID=UTC:20240328T170000
DTSTAMP:20260420T121907
CREATED:20240216T093234Z
LAST-MODIFIED:20240216T093707Z
UID:1386-1707897600-1711645200@www.voltosanto.it
SUMMARY:PROGRAMMA QUARESIMA 2024
DESCRIPTION:Oggi 14 febbraio inizia la Quaresima\, un tempo nel quale sei chiamato ad\naprire il tuo cuore al Vangelo. \nQuaranta giorni davanti a noi\, Gesù:\necco un dono prezioso\nper la nostra vita di fede\,\nun’occasione per sperimentare\nuna nuovo tempo dello Spirito.\nper ritrovare un rapporto autentico con te\,\nper ascoltare la tua Parola\ne fermarci ai tuoi piedi.
URL:https://www.voltosanto.it/event/programma-quaresima-2024/
ATTACH;FMTTYPE=image/jpeg:https://www.voltosanto.it/wp-content/uploads/2024/02/quaresimap-2024-1.jpg
END:VEVENT
END:VCALENDAR