BEGIN:VCALENDAR
VERSION:2.0
PRODID:-//Volto Santo - ECPv5.9.1//NONSGML v1.0//EN
CALSCALE:GREGORIAN
METHOD:PUBLISH
X-WR-CALNAME:Volto Santo
X-ORIGINAL-URL:https://www.voltosanto.it
X-WR-CALDESC:Eventi per Volto Santo
BEGIN:VTIMEZONE
TZID:UTC
BEGIN:STANDARD
TZOFFSETFROM:+0000
TZOFFSETTO:+0000
TZNAME:UTC
DTSTART:20190101T000000
END:STANDARD
END:VTIMEZONE
BEGIN:VEVENT
DTSTART;TZID=UTC:20191226T073000
DTEND;TZID=UTC:20191226T163000
DTSTAMP:20260424T103834
CREATED:20191222T135147Z
LAST-MODIFIED:20191222T195155Z
UID:737-1577345400-1577377800@www.voltosanto.it
SUMMARY:Giovedì 26 dicembre - S. Stefano
DESCRIPTION:S. Messa ore: 7.30 – 9.00 – 10.00 – 11.00 – 16.30
URL:https://www.voltosanto.it/event/giovedi-26-dicembre-s-stefano/
ATTACH;FMTTYPE=image/jpeg:https://www.voltosanto.it/wp-content/uploads/2019/12/santo-stefano.jpg
END:VEVENT
END:VCALENDAR