BEGIN:VCALENDAR
VERSION:2.0
PRODID:-//Volto Santo - ECPv5.9.1//NONSGML v1.0//EN
CALSCALE:GREGORIAN
METHOD:PUBLISH
X-WR-CALNAME:Volto Santo
X-ORIGINAL-URL:https://www.voltosanto.it
X-WR-CALDESC:Eventi per Volto Santo
BEGIN:VTIMEZONE
TZID:UTC
BEGIN:STANDARD
TZOFFSETFROM:+0000
TZOFFSETTO:+0000
TZNAME:UTC
DTSTART:20200101T000000
END:STANDARD
END:VTIMEZONE
BEGIN:VEVENT
DTSTART;TZID=UTC:20200101T073000
DTEND;TZID=UTC:20200101T163000
DTSTAMP:20260424T120606
CREATED:20191223T000243Z
LAST-MODIFIED:20191223T000243Z
UID:752-1577863800-1577896200@www.voltosanto.it
SUMMARY:Capodanno 2020
DESCRIPTION:S. Messa : 7.30 – 9.00 – 10.00 – 11.00 – 16.30
URL:https://www.voltosanto.it/event/capodanno-2020/
END:VEVENT
END:VCALENDAR