BEGIN:VCALENDAR
VERSION:2.0
PRODID:-//Volto Santo - ECPv5.9.1//NONSGML v1.0//EN
CALSCALE:GREGORIAN
METHOD:PUBLISH
X-WR-CALNAME:Volto Santo
X-ORIGINAL-URL:https://www.voltosanto.it
X-WR-CALDESC:Eventi per Volto Santo
BEGIN:VTIMEZONE
TZID:UTC
BEGIN:STANDARD
TZOFFSETFROM:+0000
TZOFFSETTO:+0000
TZNAME:UTC
DTSTART:20200101T000000
END:STANDARD
END:VTIMEZONE
BEGIN:VEVENT
DTSTART;TZID=UTC:20200106T073000
DTEND;TZID=UTC:20200106T163000
DTSTAMP:20260424T132752
CREATED:20191223T000453Z
LAST-MODIFIED:20191223T000829Z
UID:754-1578295800-1578328200@www.voltosanto.it
SUMMARY:6 Gennaio Epifania
DESCRIPTION:S. Messa ore: 7.30 – 9.00 – 10.00 – 11.00 – 16.30
URL:https://www.voltosanto.it/event/6-gennaio-epifania/
ATTACH;FMTTYPE=image/png:https://www.voltosanto.it/wp-content/uploads/2019/12/AdorazioneDeiMagi.png
END:VEVENT
END:VCALENDAR