BEGIN:VCALENDAR
VERSION:2.0
PRODID:-//Volto Santo - ECPv5.9.1//NONSGML v1.0//EN
CALSCALE:GREGORIAN
METHOD:PUBLISH
X-WR-CALNAME:Volto Santo
X-ORIGINAL-URL:https://www.voltosanto.it
X-WR-CALDESC:Eventi per Volto Santo
BEGIN:VTIMEZONE
TZID:UTC
BEGIN:STANDARD
TZOFFSETFROM:+0000
TZOFFSETTO:+0000
TZNAME:UTC
DTSTART:20190101T000000
END:STANDARD
END:VTIMEZONE
BEGIN:VEVENT
DTSTART;TZID=UTC:20191224T073000
DTEND;TZID=UTC:20191224T233000
DTSTAMP:20260424T065354
CREATED:20191222T123516Z
LAST-MODIFIED:20191222T194251Z
UID:730-1577172600-1577230200@www.voltosanto.it
SUMMARY:24 Dicembre - vigilia di Natale
DESCRIPTION:S. Messa Ore 7.30\, con novena. \nOre 23.30: Veglia e Santa Messa di Mezzanotte
URL:https://www.voltosanto.it/event/24-dicembre-vigilia-di-natale/
ATTACH;FMTTYPE=image/jpeg:https://www.voltosanto.it/wp-content/uploads/2019/12/AdorazioneConPast.jpg
END:VEVENT
END:VCALENDAR